BEGIN:VCALENDAR
VERSION:2.0
PRODID:-//La Syncope - ECPv6.15.20//NONSGML v1.0//EN
CALSCALE:GREGORIAN
METHOD:PUBLISH
X-ORIGINAL-URL:https://lasyncope.ch
X-WR-CALDESC:Évènements pour La Syncope
REFRESH-INTERVAL;VALUE=DURATION:PT1H
X-Robots-Tag:noindex
X-PUBLISHED-TTL:PT1H
BEGIN:VTIMEZONE
TZID:Europe/Zurich
BEGIN:DAYLIGHT
TZOFFSETFROM:+0100
TZOFFSETTO:+0200
TZNAME:CEST
DTSTART:20200329T010000
END:DAYLIGHT
BEGIN:STANDARD
TZOFFSETFROM:+0200
TZOFFSETTO:+0100
TZNAME:CET
DTSTART:20201025T010000
END:STANDARD
BEGIN:DAYLIGHT
TZOFFSETFROM:+0100
TZOFFSETTO:+0200
TZNAME:CEST
DTSTART:20210328T010000
END:DAYLIGHT
BEGIN:STANDARD
TZOFFSETFROM:+0200
TZOFFSETTO:+0100
TZNAME:CET
DTSTART:20211031T010000
END:STANDARD
BEGIN:DAYLIGHT
TZOFFSETFROM:+0100
TZOFFSETTO:+0200
TZNAME:CEST
DTSTART:20220327T010000
END:DAYLIGHT
BEGIN:STANDARD
TZOFFSETFROM:+0200
TZOFFSETTO:+0100
TZNAME:CET
DTSTART:20221030T010000
END:STANDARD
END:VTIMEZONE
BEGIN:VEVENT
DTSTART;VALUE=DATE:20210830
DTEND;VALUE=DATE:20210901
DTSTAMP:20260420T141221
CREATED:20210804T092658Z
LAST-MODIFIED:20210804T093139Z
UID:1579-1630288800-1630375199@lasyncope.ch
SUMMARY:C'EST LA RENTRÉE !!!
DESCRIPTION:Si vous souhaitez vous inscrire\, téléchargez notre formulaire sur ce site (à nous retourner par mail ou par courrier\, dûment complété et signé). \nEt n’hésitez pas à nous contacter pour tout renseignement ! \n 
URL:https://lasyncope.ch/evenement/rentree/
LOCATION:Vaud
ATTACH;FMTTYPE=image/png:https://lasyncope.ch/dev/wp-content/uploads/2023/09/defaultfi@2x.png
END:VEVENT
END:VCALENDAR