BEGIN:VCALENDAR
VERSION:2.0
PRODID:-//La Syncope - ECPv6.15.20//NONSGML v1.0//EN
CALSCALE:GREGORIAN
METHOD:PUBLISH
X-WR-CALNAME:La Syncope
X-ORIGINAL-URL:https://lasyncope.ch
X-WR-CALDESC:Évènements pour La Syncope
REFRESH-INTERVAL;VALUE=DURATION:PT1H
X-Robots-Tag:noindex
X-PUBLISHED-TTL:PT1H
BEGIN:VTIMEZONE
TZID:Europe/Zurich
BEGIN:DAYLIGHT
TZOFFSETFROM:+0100
TZOFFSETTO:+0200
TZNAME:CEST
DTSTART:20200329T010000
END:DAYLIGHT
BEGIN:STANDARD
TZOFFSETFROM:+0200
TZOFFSETTO:+0100
TZNAME:CET
DTSTART:20201025T010000
END:STANDARD
BEGIN:DAYLIGHT
TZOFFSETFROM:+0100
TZOFFSETTO:+0200
TZNAME:CEST
DTSTART:20210328T010000
END:DAYLIGHT
BEGIN:STANDARD
TZOFFSETFROM:+0200
TZOFFSETTO:+0100
TZNAME:CET
DTSTART:20211031T010000
END:STANDARD
BEGIN:DAYLIGHT
TZOFFSETFROM:+0100
TZOFFSETTO:+0200
TZNAME:CEST
DTSTART:20220327T010000
END:DAYLIGHT
BEGIN:STANDARD
TZOFFSETFROM:+0200
TZOFFSETTO:+0100
TZNAME:CET
DTSTART:20221030T010000
END:STANDARD
END:VTIMEZONE
BEGIN:VEVENT
DTSTART;TZID=Europe/Zurich:20210617T183000
DTEND;TZID=Europe/Zurich:20210617T183000
DTSTAMP:20260420T183737
CREATED:20210611T095950Z
LAST-MODIFIED:20210615T101314Z
UID:1526-1623954600-1623954600@lasyncope.ch
SUMMARY:AUDITION D'ACCORDÉON
DESCRIPTION:Au bar éphémère La Coquette \nclasse de Lisa Biard
URL:https://lasyncope.ch/evenement/audition-daccordeon/
LOCATION:Vaud
ATTACH;FMTTYPE=image/png:https://lasyncope.ch/dev/wp-content/uploads/2023/09/defaultfi@2x.png
END:VEVENT
BEGIN:VEVENT
DTSTART;TZID=Europe/Zurich:20210618T190000
DTEND;TZID=Europe/Zurich:20210618T190000
DTSTAMP:20260420T183737
CREATED:20210528T123230Z
LAST-MODIFIED:20210601T083023Z
UID:1515-1624042800-1624042800@lasyncope.ch
SUMMARY:LA SYNCOPE À LA COQUETTE !
DESCRIPTION:au bar éphémère LA COQUETTE\, Parc de l’Indépendance à Morges \nVENEZ NOMBREUX ! \nAu programme : \n19h00\, audition collective de musique actuelle des classes de Sylvain Grimm\, Simone Unger\, Sébastien Pittet\, Jakub Groos et Samuel Müller\n20h30\, Atelier Pop 2021 emmené par Simone Unger\n22h00\, Gadjo (groupe de jazz manouche) avec notre professeur de basse Sébastien Pittet \nEn cas de mauvais temps : l’audition se déroulera au Foyer des Pâquis à St-Sulpice VD dans le respect des normes sanitaires en vigueur (information actualisée ultérieurement).
URL:https://lasyncope.ch/evenement/audition-musique-actuelle/
LOCATION:Vaud
ATTACH;FMTTYPE=image/png:https://lasyncope.ch/dev/wp-content/uploads/2023/09/defaultfi@2x.png
END:VEVENT
BEGIN:VEVENT
DTSTART;TZID=Europe/Zurich:20210625T180000
DTEND;TZID=Europe/Zurich:20210625T180000
DTSTAMP:20260420T183737
CREATED:20210611T095847Z
LAST-MODIFIED:20210615T114902Z
UID:1524-1624644000-1624644000@lasyncope.ch
SUMMARY:AUDITION COLLECTIVE "au bord du lac"
DESCRIPTION:Au bar éphémère LA COQUETTE \n15 élèves âgés de 5 à 18 ans vous proposeront à 4 mains\, en solo ou en duo\, des pièces choisies des répertoires de Vivaldi\, Schubert\, Chopin\, Max Richter\, Nino Rota\, Mecano\, the Bangles et de musique de film.\nAvec des élèves des classes de : \nLucie Mauch (piano)\nPascale Keller Delacrétaz (piano)\nElise Bailly-Basin (violoncelle)\nRahel Zbinden (piano)\nLisa Biard (accordéon)\nHaïm Shazar (guitare) \nEn cas de mauvais temps\, l’audition se déroulera dans nos locaux de Riond-Bosson 12\, mais à 19h !
URL:https://lasyncope.ch/evenement/audition-collective-au-bord-du-lac/
LOCATION:Vaud
ATTACH;FMTTYPE=image/png:https://lasyncope.ch/dev/wp-content/uploads/2023/09/defaultfi@2x.png
END:VEVENT
BEGIN:VEVENT
DTSTART;TZID=Europe/Zurich:20210626T200000
DTEND;TZID=Europe/Zurich:20210626T200000
DTSTAMP:20260420T183737
CREATED:20210528T120124Z
LAST-MODIFIED:20210528T120800Z
UID:1404-1624737600-1624737600@lasyncope.ch
SUMMARY:Concert des profs
DESCRIPTION:
URL:https://lasyncope.ch/evenement/concert-des-profs/
LOCATION:Vaud
CATEGORIES:Concerts
ATTACH;FMTTYPE=image/jpeg:https://lasyncope.ch/dev/wp-content/uploads/2021/05/flyer-concert-Aless-PKD.jpg
END:VEVENT
BEGIN:VEVENT
DTSTART;TZID=Europe/Zurich:20210627T170000
DTEND;TZID=Europe/Zurich:20210627T170000
DTSTAMP:20260420T183737
CREATED:20210528T120239Z
LAST-MODIFIED:20210528T120710Z
UID:1409-1624813200-1624813200@lasyncope.ch
SUMMARY:Concert des profs
DESCRIPTION:
URL:https://lasyncope.ch/evenement/concert-des-profs-2/
LOCATION:Vaud
CATEGORIES:Concerts
ATTACH;FMTTYPE=image/jpeg:https://lasyncope.ch/dev/wp-content/uploads/2021/05/flyer-concert-Aless-PKD.jpg
END:VEVENT
END:VCALENDAR