BEGIN:VCALENDAR
VERSION:2.0
PRODID:-//La Syncope - ECPv6.15.20//NONSGML v1.0//EN
CALSCALE:GREGORIAN
METHOD:PUBLISH
X-ORIGINAL-URL:https://lasyncope.ch
X-WR-CALDESC:Évènements pour La Syncope
REFRESH-INTERVAL;VALUE=DURATION:PT1H
X-Robots-Tag:noindex
X-PUBLISHED-TTL:PT1H
BEGIN:VTIMEZONE
TZID:Europe/Zurich
BEGIN:DAYLIGHT
TZOFFSETFROM:+0100
TZOFFSETTO:+0200
TZNAME:CEST
DTSTART:20190331T010000
END:DAYLIGHT
BEGIN:STANDARD
TZOFFSETFROM:+0200
TZOFFSETTO:+0100
TZNAME:CET
DTSTART:20191027T010000
END:STANDARD
BEGIN:DAYLIGHT
TZOFFSETFROM:+0100
TZOFFSETTO:+0200
TZNAME:CEST
DTSTART:20200329T010000
END:DAYLIGHT
BEGIN:STANDARD
TZOFFSETFROM:+0200
TZOFFSETTO:+0100
TZNAME:CET
DTSTART:20201025T010000
END:STANDARD
BEGIN:DAYLIGHT
TZOFFSETFROM:+0100
TZOFFSETTO:+0200
TZNAME:CEST
DTSTART:20210328T010000
END:DAYLIGHT
BEGIN:STANDARD
TZOFFSETFROM:+0200
TZOFFSETTO:+0100
TZNAME:CET
DTSTART:20211031T010000
END:STANDARD
END:VTIMEZONE
BEGIN:VEVENT
DTSTART;TZID=Europe/Zurich:20200605T190000
DTEND;TZID=Europe/Zurich:20200605T190000
DTSTAMP:20260422T013632
CREATED:20200113T135803Z
LAST-MODIFIED:20200602T124351Z
UID:1221-1591383600-1591383600@lasyncope.ch
SUMMARY:Audition d'accordéon - annulée
DESCRIPTION:Classe de Lisa Biard
URL:https://lasyncope.ch/evenement/audition-daccordeon-5/
LOCATION:Riond-Bosson\, Riond-Bosson 12\, Morges\, Vaud\, 1110
ATTACH;FMTTYPE=image/png:https://lasyncope.ch/dev/wp-content/uploads/2023/09/defaultfi@2x.png
END:VEVENT
BEGIN:VEVENT
DTSTART;TZID=Europe/Zurich:20200612T190000
DTEND;TZID=Europe/Zurich:20200612T190000
DTSTAMP:20260422T013632
CREATED:20200113T140831Z
LAST-MODIFIED:20200605T125838Z
UID:1233-1591988400-1591988400@lasyncope.ch
SUMMARY:Audition de saxophone\, trompette et piano
DESCRIPTION:Classes de Vincent Barras (saxophone)\, Simon Sulmoni (trompette) et Pascale Keller-Delacrétaz (piano)
URL:https://lasyncope.ch/evenement/audition-de-saxophone-et-trompette/
LOCATION:Riond-Bosson\, Riond-Bosson 12\, Morges\, Vaud\, 1110
ATTACH;FMTTYPE=image/png:https://lasyncope.ch/dev/wp-content/uploads/2023/09/defaultfi@2x.png
END:VEVENT
BEGIN:VEVENT
DTSTART;TZID=Europe/Zurich:20200613T140000
DTEND;TZID=Europe/Zurich:20200613T140000
DTSTAMP:20260422T013632
CREATED:20200602T124854Z
LAST-MODIFIED:20200602T124940Z
UID:1298-1592056800-1592056800@lasyncope.ch
SUMMARY:Audition de piano
DESCRIPTION:Classe de Marina Chapochnikova
URL:https://lasyncope.ch/evenement/audition-de-piano-34/
LOCATION:Riond-Bosson\, Riond-Bosson 12\, Morges\, Vaud\, 1110
ATTACH;FMTTYPE=image/png:https://lasyncope.ch/dev/wp-content/uploads/2023/09/defaultfi@2x.png
END:VEVENT
BEGIN:VEVENT
DTSTART;TZID=Europe/Zurich:20200619T190000
DTEND;TZID=Europe/Zurich:20200619T190000
DTSTAMP:20260422T013632
CREATED:20190830T151408Z
LAST-MODIFIED:20200602T140422Z
UID:1186-1592593200-1592593200@lasyncope.ch
SUMMARY:Audition collective de musique actuelle - annulée
DESCRIPTION:
URL:https://lasyncope.ch/evenement/audition-collective-de-musique-actuelle/
LOCATION:Riond-Bosson\, Riond-Bosson 12\, Morges\, Vaud\, 1110
ATTACH;FMTTYPE=image/png:https://lasyncope.ch/dev/wp-content/uploads/2023/09/defaultfi@2x.png
END:VEVENT
BEGIN:VEVENT
DTSTART;TZID=Europe/Zurich:20200620T080000
DTEND;TZID=Europe/Zurich:20200620T170000
DTSTAMP:20260422T013632
CREATED:20190830T151507Z
LAST-MODIFIED:20200602T124323Z
UID:1188-1592640000-1592672400@lasyncope.ch
SUMMARY:Participation de la Syncope à la fête de la musique de Morges - annulée
DESCRIPTION:
URL:https://lasyncope.ch/evenement/participation-de-la-syncope-a-la-fete-de-la-musique-de-morges/
LOCATION:Vaud
ATTACH;FMTTYPE=image/png:https://lasyncope.ch/dev/wp-content/uploads/2023/09/defaultfi@2x.png
END:VEVENT
BEGIN:VEVENT
DTSTART;TZID=Europe/Zurich:20200628T170000
DTEND;TZID=Europe/Zurich:20200628T170000
DTSTAMP:20260422T013632
CREATED:20200227T133534Z
LAST-MODIFIED:20200622T114327Z
UID:1250-1593363600-1593363600@lasyncope.ch
SUMMARY:AUDITION DE HARPE - annulée
DESCRIPTION:Classe de Valentina Hrobat
URL:https://lasyncope.ch/evenement/audition-de-harpe-6/
LOCATION:Riond-Bosson\, Riond-Bosson 12\, Morges\, Vaud\, 1110
ATTACH;FMTTYPE=image/png:https://lasyncope.ch/dev/wp-content/uploads/2023/09/defaultfi@2x.png
END:VEVENT
END:VCALENDAR