BEGIN:VCALENDAR
VERSION:2.0
PRODID:-//La Syncope - ECPv6.15.20//NONSGML v1.0//EN
CALSCALE:GREGORIAN
METHOD:PUBLISH
X-WR-CALNAME:La Syncope
X-ORIGINAL-URL:https://lasyncope.ch
X-WR-CALDESC:Évènements pour La Syncope
REFRESH-INTERVAL;VALUE=DURATION:PT1H
X-Robots-Tag:noindex
X-PUBLISHED-TTL:PT1H
BEGIN:VTIMEZONE
TZID:Europe/Zurich
BEGIN:DAYLIGHT
TZOFFSETFROM:+0100
TZOFFSETTO:+0200
TZNAME:CEST
DTSTART:20240331T010000
END:DAYLIGHT
BEGIN:STANDARD
TZOFFSETFROM:+0200
TZOFFSETTO:+0100
TZNAME:CET
DTSTART:20241027T010000
END:STANDARD
BEGIN:DAYLIGHT
TZOFFSETFROM:+0100
TZOFFSETTO:+0200
TZNAME:CEST
DTSTART:20250330T010000
END:DAYLIGHT
BEGIN:STANDARD
TZOFFSETFROM:+0200
TZOFFSETTO:+0100
TZNAME:CET
DTSTART:20251026T010000
END:STANDARD
BEGIN:DAYLIGHT
TZOFFSETFROM:+0100
TZOFFSETTO:+0200
TZNAME:CEST
DTSTART:20260329T010000
END:DAYLIGHT
BEGIN:STANDARD
TZOFFSETFROM:+0200
TZOFFSETTO:+0100
TZNAME:CET
DTSTART:20261025T010000
END:STANDARD
END:VTIMEZONE
BEGIN:VEVENT
DTSTART;TZID=Europe/Zurich:20250601T170000
DTEND;TZID=Europe/Zurich:20250601T170000
DTSTAMP:20260421T130940
CREATED:20250304T111550Z
LAST-MODIFIED:20250320T115536Z
UID:4007-1748797200-1748797200@lasyncope.ch
SUMMARY:Audition de violoncelle
DESCRIPTION:Classe de Camille Ducroux
URL:https://lasyncope.ch/evenement/audition-de-violoncelle/
LOCATION:Riond-Bosson\, Riond-Bosson 12\, Morges\, Vaud\, 1110
CATEGORIES:Auditions
ATTACH;FMTTYPE=image/png:https://lasyncope.ch/dev/wp-content/uploads/2023/09/defaultfi@2x.png
END:VEVENT
BEGIN:VEVENT
DTSTART;TZID=Europe/Zurich:20250615T170000
DTEND;TZID=Europe/Zurich:20250615T170000
DTSTAMP:20260421T130941
CREATED:20250501T142023Z
LAST-MODIFIED:20250523T091203Z
UID:4040-1750006800-1750006800@lasyncope.ch
SUMMARY:Audition de piano
DESCRIPTION:Classe d’Alessandro Gonteri
URL:https://lasyncope.ch/evenement/audition-de-piano-19/
LOCATION:Riond-Bosson\, Riond-Bosson 12\, Morges\, Vaud\, 1110
CATEGORIES:Auditions
ATTACH;FMTTYPE=image/png:https://lasyncope.ch/dev/wp-content/uploads/2023/09/defaultfi@2x.png
END:VEVENT
BEGIN:VEVENT
DTSTART;TZID=Europe/Zurich:20250620T190000
DTEND;TZID=Europe/Zurich:20250620T190000
DTSTAMP:20260421T130941
CREATED:20241115T130909Z
LAST-MODIFIED:20241115T130946Z
UID:3944-1750446000-1750446000@lasyncope.ch
SUMMARY:Audition de piano et flûte à bec
DESCRIPTION:Classes de Pascale Keller Delacrétaz
URL:https://lasyncope.ch/evenement/audition-de-piano-et-flute-a-bec-4/
LOCATION:Riond-Bosson\, Riond-Bosson 12\, Morges\, Vaud\, 1110
CATEGORIES:Auditions
ATTACH;FMTTYPE=image/png:https://lasyncope.ch/dev/wp-content/uploads/2023/09/defaultfi@2x.png
END:VEVENT
BEGIN:VEVENT
DTSTART;TZID=Europe/Zurich:20250626T183000
DTEND;TZID=Europe/Zurich:20250626T183000
DTSTAMP:20260421T130941
CREATED:20250619T114446Z
LAST-MODIFIED:20250619T123531Z
UID:4095-1750962600-1750962600@lasyncope.ch
SUMMARY:Audition d'orgue
DESCRIPTION:Classe d’Anne-Lise Vuilleumier Luy
URL:https://lasyncope.ch/evenement/audition-dorgue-2/
LOCATION:Temple de Morges
CATEGORIES:Auditions
ATTACH;FMTTYPE=image/png:https://lasyncope.ch/dev/wp-content/uploads/2023/09/defaultfi@2x.png
END:VEVENT
BEGIN:VEVENT
DTSTART;TZID=Europe/Zurich:20250627T193000
DTEND;TZID=Europe/Zurich:20250627T193000
DTSTAMP:20260421T130941
CREATED:20250523T091324Z
LAST-MODIFIED:20250612T132430Z
UID:4064-1751052600-1751052600@lasyncope.ch
SUMMARY:Audition de piano (jazz)\, de guitare et de luth
DESCRIPTION:Classes de : \nLucien Behrens (piano jazz)\net\nHaïm Shazar (guitare et luth)
URL:https://lasyncope.ch/evenement/audition-de-piano-jazz/
LOCATION:Riond-Bosson\, Riond-Bosson 12\, Morges\, Vaud\, 1110
CATEGORIES:Auditions
ATTACH;FMTTYPE=image/png:https://lasyncope.ch/dev/wp-content/uploads/2023/09/defaultfi@2x.png
END:VEVENT
END:VCALENDAR